BEGIN:VCALENDAR
VERSION:2.0
CALSCALE:GREGORIAN
PRODID:adamgibbons/ics
METHOD:PUBLISH
X-PUBLISHED-TTL:PT1H
BEGIN:VEVENT
UID:502@fahrradtermine-berlin.de
SUMMARY:Gemeinsames Anradeln der Fahrradstraße Alexandrinenstraße
DTSTAMP:20260424T003010Z
DTSTART:20260428T150000Z
DTEND:20260428T160000Z
URL:https://fahrradtermine-berlin.de/event/gemeinsames-anradeln-der-fahrrad
	strasse-alexandrinenstrasse
GEO:52.497;13.3987
LOCATION:Alexandrinenstraße / Brachvogelstraße - Alexandrinenstraße\, Luise
	nstadt\, Kreuzberg\, Friedrichshain-Kreuzberg\, Berlin\, 10969\, Deutschla
	nd
STATUS:CONFIRMED
CATEGORIES:Anradeln einer Fahrradstraße,Kreuzberg
END:VEVENT
END:VCALENDAR
